BEGIN:VCALENDAR
VERSION:2.0
PRODID:-//3nity.com//3nity CMS//EN
BEGIN:VEVENT
SUMMARY:Worship Service
UID:2026-07-18-1214164@www.audubonparkbaptist.org
SEQUENCE:0
STATUS:CONFIRMED
DTSTART:20260426T103000
DTEND:20260426T113000
DTSTAMP:20161222T120000
DESCRIPTION:April 5, 2026:  Matthew 28:1-7 Victory\nApril 12, 2026:  2 Chronicles 20:21 Praise Him\nApril 19, 2026:  Jude 1:1-3 Called\n
URL:http://www.audubonparkbaptist.org
END:VEVENT
END:VCALENDAR
