BEGIN:VCALENDAR
VERSION:2.0
PRODID:-//3nity.com//3nity CMS//EN
BEGIN:VEVENT
SUMMARY:Ladies Night Out
UID:2026-07-18-1214170@www.audubonparkbaptist.org
SEQUENCE:0
STATUS:CONFIRMED
DTSTART:20260425T190000
DTEND:20260425T210000
DTSTAMP:20161222T120000
DESCRIPTION:Merry Meal Makers\n
URL:http://www.audubonparkbaptist.org
END:VEVENT
END:VCALENDAR
